BEGIN:VCALENDAR
VERSION:2.0
PRODID:-//Plone.org//NONSGML plone.app.event//EN
X-WR-TIMEZONE:Europe/Madrid
BEGIN:VEVENT
SUMMARY:43è Cros dels Arenys
DTSTART;TZID=Europe/Madrid;VALUE=DATE-TIME:20231104T100000
DTEND;TZID=Europe/Madrid;VALUE=DATE-TIME:20231104T110000
DTSTAMP;VALUE=DATE-TIME:20260421T232850Z
UID:be8d33ad7bb2cb957d17062521a48e29
CREATED;VALUE=DATE-TIME:20231104T000000Z
CATEGORIES:Esports
LOCATION:Parc Can Jalpí (Arenys de Munt)
ORGANIZER:Ajuntament d'Arenys de Mar, Penya Apa Anem-hi i Ajuntament d'Arenys de Munt
DESCRIPTION:Trofeu Memorial Lluís Garcia Baena "Titín"
URL:https://arenysdemar.cat/document.php?id=44758
END:VEVENT
END:VCALENDAR