BEGIN:VCALENDAR
VERSION:2.0
PRODID:-//Plone.org//NONSGML plone.app.event//EN
X-WR-TIMEZONE:Europe/Madrid
BEGIN:VEVENT
SUMMARY:Cantada de nadales
DTSTART;TZID=Europe/Madrid;VALUE=DATE-TIME:20231219T173000
DTEND;TZID=Europe/Madrid;VALUE=DATE-TIME:20231219T183000
DTSTAMP;VALUE=DATE-TIME:20260424T054659Z
UID:880e5fe21df1ff7cb47942f270cd84e9
CREATED;VALUE=DATE-TIME:20231219T000000Z
CATEGORIES:Música
LOCATION:Porxada del Mercat Municipal
ORGANIZER:Regidoria de Promoció Local
DESCRIPTION:a càrrec del cor Els boixets i els Petits Músics de l'Escola Municipal de Música d'Arenys de Mar
URL:https://arenysdemar.cat/document.php?id=44770
END:VEVENT
END:VCALENDAR