BEGIN:VCALENDAR
VERSION:2.0
PRODID:-//Plone.org//NONSGML plone.app.event//EN
X-WR-TIMEZONE:Europe/Madrid
BEGIN:VEVENT
SUMMARY:Programa de ràdio: Les Imperfectes amb la Biblioteca i la Marató de TV3
DTSTART;TZID=Europe/Madrid;VALUE=DATE-TIME:20231212T210000
DTEND;TZID=Europe/Madrid;VALUE=DATE-TIME:20231212T220000
DTSTAMP;VALUE=DATE-TIME:20260421T050402Z
UID:52b1d6d95678f225c290cd13768dc73e
CREATED;VALUE=DATE-TIME:20231212T000000Z
CATEGORIES:Mostra
LOCATION:Sala d'Actes de la Biblioteca - C. Bonaire, 3
ORGANIZER:Biblioteca - Regidoria de Cultura i Ràdio Arenys
URL:https://arenysdemar.cat/document.php?id=44798
END:VEVENT
END:VCALENDAR