BEGIN:VCALENDAR
VERSION:2.0
PRODID:-//Plone.org//NONSGML plone.app.event//EN
X-WR-TIMEZONE:Europe/Madrid
BEGIN:VEVENT
SUMMARY:Festa del comerç UBICA
DTSTART;TZID=Europe/Madrid;VALUE=DATE-TIME:20231217T000000
DTEND;TZID=Europe/Madrid;VALUE=DATE-TIME:20231217T010000
DTSTAMP;VALUE=DATE-TIME:20260421T200934Z
UID:a44b590b883e5164f0c131f292e07a8d
CREATED;VALUE=DATE-TIME:20231217T000000Z
CATEGORIES:Mostra,Festa,Infantils,Tallers
LOCATION:Part baixa de la Riera
ORGANIZER:UBICA i Ajuntament Arenys de Mar
COMMENT:Durada: Tot el dia
DESCRIPTION:Aquest Nadal compra al comerç local
URL:https://arenysdemar.cat/document.php?id=44848
END:VEVENT
END:VCALENDAR