BEGIN:VCALENDAR
VERSION:2.0
PRODID:-//Plone.org//NONSGML plone.app.event//EN
X-WR-TIMEZONE:Europe/Madrid
BEGIN:VEVENT
SUMMARY:Reunió veí
DTSTART;TZID=Europe/Madrid;VALUE=DATE-TIME:20231115T103000
DTEND;TZID=Europe/Madrid;VALUE=DATE-TIME:20231115T113000
DTSTAMP;VALUE=DATE-TIME:20260424T060756Z
UID:b87c2611df1f553b82e757ab236f8529
CREATED;VALUE=DATE-TIME:20231115T000000Z
URL:https://arenysdemar.cat/document.php?id=44878
END:VEVENT
END:VCALENDAR