BEGIN:VCALENDAR
VERSION:2.0
PRODID:-//Plone.org//NONSGML plone.app.event//EN
X-WR-TIMEZONE:Europe/Madrid
BEGIN:VEVENT
SUMMARY:Dia Internacional dels drets dels infants
DTSTART;TZID=Europe/Madrid;VALUE=DATE-TIME:20231125T200000
DTEND;TZID=Europe/Madrid;VALUE=DATE-TIME:20231125T210000
DTSTAMP;VALUE=DATE-TIME:20260422T001028Z
UID:fe66996819625400ae3f835e39db109e
CREATED;VALUE=DATE-TIME:20231125T000000Z
CATEGORIES:Festa,Infantils,Música
LOCATION:Plaça de l'Església - Plaça de l'Església
ORGANIZER:Regidoria d'Infància i Joventut
DESCRIPTION:Concert amb els Bentrobats i P.D. Aquest any dedicat als adolescents
URL:https://arenysdemar.cat/document.php?id=44893
END:VEVENT
END:VCALENDAR