BEGIN:VCALENDAR
VERSION:2.0
PRODID:-//Plone.org//NONSGML plone.app.event//EN
X-WR-TIMEZONE:Europe/Madrid
BEGIN:VEVENT
SUMMARY:Vagó vuit
DTSTART;TZID=Europe/Madrid;VALUE=DATE-TIME:20231119T190000
DTEND;TZID=Europe/Madrid;VALUE=DATE-TIME:20231119T200000
DTSTAMP;VALUE=DATE-TIME:20260420T171304Z
UID:651d66538e5d8aba4cefbe0cb43ffedb
CREATED;VALUE=DATE-TIME:20231119T000000Z
CATEGORIES:Teatre
LOCATION:Teatre Principal - C. Església, 45-47
ORGANIZER:Societat Coral l'Esperança, Seràfics i Regidoria de Cultura
COMMENT:Preu: 5&euro; anticipada i 6 &euro; taquilla
DESCRIPTION:Un musical dirigit per Mariona Mas
URL:https://arenysdemar.cat/document.php?id=44900
END:VEVENT
END:VCALENDAR