BEGIN:VCALENDAR
VERSION:2.0
PRODID:-//Plone.org//NONSGML plone.app.event//EN
X-WR-TIMEZONE:Europe/Madrid
BEGIN:VEVENT
SUMMARY:Reunió Entitat - Colla Diables Socarrimats
DTSTART;TZID=Europe/Madrid;VALUE=DATE-TIME:20231130T180000
DTEND;TZID=Europe/Madrid;VALUE=DATE-TIME:20231130T190000
DTSTAMP;VALUE=DATE-TIME:20260420T151911Z
UID:57d6743e3331c2cd81dddcb3e4eefd99
CREATED;VALUE=DATE-TIME:20231130T000000Z
URL:https://arenysdemar.cat/document.php?id=44974
END:VEVENT
END:VCALENDAR