BEGIN:VCALENDAR
VERSION:2.0
PRODID:-//Plone.org//NONSGML plone.app.event//EN
X-WR-TIMEZONE:Europe/Madrid
BEGIN:VEVENT
SUMMARY:Programa d´activitats gener-febrer i març 2024
DTSTART;TZID=Europe/Madrid;VALUE=DATE-TIME:20231211T000000
DTEND;TZID=Europe/Madrid;VALUE=DATE-TIME:20231211T010000
DTSTAMP;VALUE=DATE-TIME:20260423T132348Z
UID:9e5d7115efa211ebd4cdc1eaa825469e
CREATED;VALUE=DATE-TIME:20231211T000000Z
CATEGORIES:Cursos
LOCATION:Esplai/C.C.Calisay - Riera del Pare Fita, 31
ORGANIZER:L´Esplai de la Gent Gran
COMMENT:Durada: Gener-febrer i març 2024
DESCRIPTION:Activitats 2024
URL:https://arenysdemar.cat/document.php?id=44985
END:VEVENT
END:VCALENDAR