BEGIN:VCALENDAR
VERSION:2.0
PRODID:-//Plone.org//NONSGML plone.app.event//EN
X-WR-TIMEZONE:Europe/Madrid
BEGIN:VEVENT
SUMMARY:Torneig Solidari 4x4 La Marató de TV3
DTSTART;TZID=Europe/Madrid;VALUE=DATE-TIME:20231217T090000
DTEND;TZID=Europe/Madrid;VALUE=DATE-TIME:20231217T100000
DTSTAMP;VALUE=DATE-TIME:20260421T200948Z
UID:864030607b3250e47ba36f5b52dcd72c
CREATED;VALUE=DATE-TIME:20231217T000000Z
CATEGORIES:Mostra
LOCATION:Platja Picòrdia
ORGANIZER:Club Vòlei papis
COMMENT:Preu: 30&euro; per equip
DESCRIPTION:Club Vòlei papis
URL:https://arenysdemar.cat/document.php?id=45010
END:VEVENT
END:VCALENDAR