BEGIN:VCALENDAR
VERSION:2.0
PRODID:-//Plone.org//NONSGML plone.app.event//EN
X-WR-TIMEZONE:Europe/Madrid
BEGIN:VEVENT
SUMMARY:Conferència d'Antropologia: El rol social i cultural dels àpats a la Mediterrània Occidental
DTSTART;TZID=Europe/Madrid;VALUE=DATE-TIME:20240206T180000
DTEND;TZID=Europe/Madrid;VALUE=DATE-TIME:20240206T190000
DTSTAMP;VALUE=DATE-TIME:20260421T220557Z
UID:7738eef1a5c07804dbce4f424cbe1414
CREATED;VALUE=DATE-TIME:20240206T000000Z
CATEGORIES:Conferència
LOCATION:Sala Josep Maria Arnau del C.C.Calisay - Riera del Pare Fita, 31
ORGANIZER:Aula d'Extensió Universitària d'Arenys de Mar
DESCRIPTION:a càrrec de Ivone Puig Artigas, Dra. Antropologia Social i Cultural
URL:https://arenysdemar.cat/document.php?id=45053
END:VEVENT
END:VCALENDAR