BEGIN:VCALENDAR
VERSION:2.0
PRODID:-//Plone.org//NONSGML plone.app.event//EN
X-WR-TIMEZONE:Europe/Madrid
BEGIN:VEVENT
SUMMARY:Sortida cultural al Monestir de Sant Pere de Rodes
DTSTART;TZID=Europe/Madrid;VALUE=DATE-TIME:20240222T000000
DTEND;TZID=Europe/Madrid;VALUE=DATE-TIME:20240222T010000
DTSTAMP;VALUE=DATE-TIME:20260420T031859Z
UID:7aec92c4e76a5944f20add241d30e56e
CREATED;VALUE=DATE-TIME:20240222T000000Z
CATEGORIES:Exposició
LOCATION:Pati del C.C.Calisay - Riera del Pare Fita, 31
ORGANIZER:Aula d'Extensió Universitària d'Arenys de Mar
COMMENT:Preu: Consultar secretaria
URL:https://arenysdemar.cat/document.php?id=45056
END:VEVENT
END:VCALENDAR