BEGIN:VCALENDAR
VERSION:2.0
PRODID:-//Plone.org//NONSGML plone.app.event//EN
X-WR-TIMEZONE:Europe/Madrid
BEGIN:VEVENT
SUMMARY:Visita guiada a l'Exposició Miró-Picasso al Museu Picasso
DTSTART;TZID=Europe/Madrid;VALUE=DATE-TIME:20240207T000000
DTEND;TZID=Europe/Madrid;VALUE=DATE-TIME:20240207T010000
DTSTAMP;VALUE=DATE-TIME:20260424T194339Z
UID:2b819f3593618b2fc9010b96a7595ba8
CREATED;VALUE=DATE-TIME:20240207T000000Z
CATEGORIES:Exposició
LOCATION:Pati del C.C.Calisay - Riera del Pare Fita, 31
ORGANIZER:Aula d'Extensió Universitària d'Arenys de Mar
COMMENT:Preu: Consultar secretaria
DESCRIPTION:Art
URL:https://arenysdemar.cat/document.php?id=45057
END:VEVENT
END:VCALENDAR