BEGIN:VCALENDAR
VERSION:2.0
PRODID:-//Plone.org//NONSGML plone.app.event//EN
X-WR-TIMEZONE:Europe/Madrid
BEGIN:VEVENT
SUMMARY:Febrer musical: Mestres, amics i deixebles de Beethoven. Monogràfic Beethoven
DTSTART;TZID=Europe/Madrid;VALUE=DATE-TIME:20240223T180000
DTEND;TZID=Europe/Madrid;VALUE=DATE-TIME:20240223T190000
DTSTAMP;VALUE=DATE-TIME:20260422T000906Z
UID:40c21c7164238d86d9fa8806b50e4af3
CREATED;VALUE=DATE-TIME:20240223T000000Z
CATEGORIES:Conferència
LOCATION:Sala Noble del C.C.Calisay - Riera Pare Fita, 31
ORGANIZER:Aula d'Extensió Universitària d'Arenys de Mar
COMMENT:Preu: Consultar secretaria
DESCRIPTION:a càrrec de Joan Vives Bellalta divulgador musical
URL:https://arenysdemar.cat/document.php?id=45060
END:VEVENT
END:VCALENDAR