BEGIN:VCALENDAR
VERSION:2.0
PRODID:-//Plone.org//NONSGML plone.app.event//EN
X-WR-TIMEZONE:Europe/Madrid
BEGIN:VEVENT
SUMMARY:Sortida a la neu
DTSTART;TZID=Europe/Madrid;VALUE=DATE-TIME:20240217T060000
DTEND;TZID=Europe/Madrid;VALUE=DATE-TIME:20240217T070000
DTSTAMP;VALUE=DATE-TIME:20260421T202009Z
UID:c376013b13b3aea75ad66744446fd785
CREATED;VALUE=DATE-TIME:20240217T000000Z
CATEGORIES:Esports
LOCATION:Parada Bus - C.C. Calisay
ORGANIZER:Associació Ski Arenys
COMMENT:Preu: Tarifa esquiador 122&euro; i tarifa acompanyant 75&euro;. Informació i inscripcions a skiarenys@gmail.com
Durada: 2 dies
DESCRIPTION:Cap de setmana a Porte Puymorens
URL:https://arenysdemar.cat/document.php?id=45113
END:VEVENT
END:VCALENDAR