BEGIN:VCALENDAR
VERSION:2.0
PRODID:-//Plone.org//NONSGML plone.app.event//EN
X-WR-TIMEZONE:Europe/Madrid
BEGIN:VEVENT
SUMMARY:Testament d'en Carnestoltes
DTSTART;TZID=Europe/Madrid;VALUE=DATE-TIME:20240214T193000
DTEND;TZID=Europe/Madrid;VALUE=DATE-TIME:20240214T203000
DTSTAMP;VALUE=DATE-TIME:20260421T233524Z
UID:fe55df8f44348677f38913bdf802d281
CREATED;VALUE=DATE-TIME:20240214T000000Z
CATEGORIES:Festa
LOCATION:Pati del C.C.Calisay - Riera del Pare Fita, 31
ORGANIZER:Regidoria de Festes
DESCRIPTION:a càrrec del Seràfics
URL:https://arenysdemar.cat/document.php?id=45157
END:VEVENT
END:VCALENDAR