BEGIN:VCALENDAR
VERSION:2.0
PRODID:-//Plone.org//NONSGML plone.app.event//EN
X-WR-TIMEZONE:Europe/Madrid
BEGIN:VEVENT
SUMMARY:Tapes al Mercat d'Arenys
DTSTART;TZID=Europe/Madrid;VALUE=DATE-TIME:20240223T200000
DTEND;TZID=Europe/Madrid;VALUE=DATE-TIME:20240223T210000
DTSTAMP;VALUE=DATE-TIME:20260422T000921Z
UID:f59ea78e0c824c0f274a006b93d58bbd
CREATED;VALUE=DATE-TIME:20240223T000000Z
CATEGORIES:Festa
LOCATION:Mercat municipal - Riera Bisbe Pol, 82
ORGANIZER:Regidoria de Promoció Econòmica
COMMENT:Preu: Entrada gratuïta
Durada: Fins a les 00:00h
DESCRIPTION:Jornada Gastronòmica
URL:https://arenysdemar.cat/document.php?id=45227
END:VEVENT
END:VCALENDAR