BEGIN:VCALENDAR
VERSION:2.0
PRODID:-//Plone.org//NONSGML plone.app.event//EN
X-WR-TIMEZONE:Europe/Madrid
BEGIN:VEVENT
SUMMARY:Taller d'escriptura: Escrivim! Què m'expliques? Trames i arguments
DTSTART;TZID=Europe/Madrid;VALUE=DATE-TIME:20240309T110000
DTEND;TZID=Europe/Madrid;VALUE=DATE-TIME:20240309T120000
DTSTAMP;VALUE=DATE-TIME:20260419T165032Z
UID:5a54cb18cbe70fdace7411895ea849a2
CREATED;VALUE=DATE-TIME:20240309T000000Z
CATEGORIES:Cursos
LOCATION:Sala d'Actes de la Biblioteca
ORGANIZER:Biblioteca - Regidoria de Cultura
COMMENT:Preu: Cal inscripció prèvia a la biblioteca, per telèfon (93.792.32.53) o correu electrònic (b.arenysma.pff@diba.cat)
DESCRIPTION:a càrrec de Gemma Tomàs
URL:https://arenysdemar.cat/document.php?id=45262
END:VEVENT
END:VCALENDAR