BEGIN:VCALENDAR
VERSION:2.0
PRODID:-//Plone.org//NONSGML plone.app.event//EN
X-WR-TIMEZONE:Europe/Madrid
BEGIN:VEVENT
SUMMARY:Hora del conte Especial Carnaval: Contes amb disbauxa
DTSTART;TZID=Europe/Madrid;VALUE=DATE-TIME:20240208T180000
DTEND;TZID=Europe/Madrid;VALUE=DATE-TIME:20240208T190000
DTSTAMP;VALUE=DATE-TIME:20260421T232759Z
UID:75e874fa4fdf53e9ceb244e5da0e1e4f
CREATED;VALUE=DATE-TIME:20240208T000000Z
CATEGORIES:Infantils
LOCATION:Sala d'Actes de la Biblioteca - C. Bonaire, 3
ORGANIZER:Biblioteca - Regidoria de Cultura
DESCRIPTION:a càrrec de la Clara Gavaldà. Activitat recomanada per a infants a partir de 4 anys
URL:https://arenysdemar.cat/document.php?id=45270
END:VEVENT
END:VCALENDAR