BEGIN:VCALENDAR
VERSION:2.0
PRODID:-//Plone.org//NONSGML plone.app.event//EN
X-WR-TIMEZONE:Europe/Madrid
BEGIN:VEVENT
SUMMARY:Llegir el teatre: Els Watson de Laura Wade
DTSTART;TZID=Europe/Madrid;VALUE=DATE-TIME:20240205T190000
DTEND;TZID=Europe/Madrid;VALUE=DATE-TIME:20240205T200000
DTSTAMP;VALUE=DATE-TIME:20260421T204009Z
UID:fae06bd12387a665169313ac45252a15
CREATED;VALUE=DATE-TIME:20240205T000000Z
CATEGORIES:Literatura
LOCATION:Sala d'Actes de la Biblioteca - C. Bonaire, 3
ORGANIZER:Biblioteca - Regidoria de Cultura
DESCRIPTION:a càrrec de Mercè Boher
URL:https://arenysdemar.cat/document.php?id=45272
END:VEVENT
END:VCALENDAR