BEGIN:VCALENDAR
VERSION:2.0
PRODID:-//Plone.org//NONSGML plone.app.event//EN
X-WR-TIMEZONE:Europe/Madrid
BEGIN:VEVENT
SUMMARY:Conferència: El canvi climàtic
DTSTART;TZID=Europe/Madrid;VALUE=DATE-TIME:20240223T190000
DTEND;TZID=Europe/Madrid;VALUE=DATE-TIME:20240223T200000
DTSTAMP;VALUE=DATE-TIME:20260422T032348Z
UID:b74119b3bb4a5b7435b29706fb98cb87
CREATED;VALUE=DATE-TIME:20240223T000000Z
CATEGORIES:Conferència
LOCATION:Sala d'actes de l'Ateneu
ORGANIZER:Secció de Cultura de l'Ateneu
COMMENT:Preu: Gratuït
DESCRIPTION:a càrrec de Marc Campeny, Doctor en Ciències de la Terra
URL:https://arenysdemar.cat/document.php?id=45294
END:VEVENT
END:VCALENDAR