BEGIN:VCALENDAR
VERSION:2.0
PRODID:-//Plone.org//NONSGML plone.app.event//EN
X-WR-TIMEZONE:Europe/Madrid
BEGIN:VEVENT
SUMMARY:Conferència de l'advocat Jordi Domingo, Cònsol major del Consolat del Mar
DTSTART;TZID=Europe/Madrid;VALUE=DATE-TIME:20240301T190000
DTEND;TZID=Europe/Madrid;VALUE=DATE-TIME:20240301T200000
DTSTAMP;VALUE=DATE-TIME:20260420T164341Z
UID:3f992e5b5bf8e205ba9751865042f556
CREATED;VALUE=DATE-TIME:20240301T000000Z
CATEGORIES:Conferència
LOCATION:Sala d'actes de l'Ateneu
ORGANIZER:Secció de Cultura de l'Ateneu
COMMENT:Preu: Gratuït
DESCRIPTION:Presentarà l'acte la periodista Assumpció Maresma
URL:https://arenysdemar.cat/document.php?id=45295
END:VEVENT
END:VCALENDAR