BEGIN:VCALENDAR
VERSION:2.0
PRODID:-//Plone.org//NONSGML plone.app.event//EN
X-WR-TIMEZONE:Europe/Madrid
BEGIN:VEVENT
SUMMARY:Hora del conte: Els bombers
DTSTART;TZID=Europe/Madrid;VALUE=DATE-TIME:20240222T180000
DTEND;TZID=Europe/Madrid;VALUE=DATE-TIME:20240222T190000
DTSTAMP;VALUE=DATE-TIME:20260422T012229Z
UID:1c24c49d689a3c8dc013c1b18d2ae8f6
CREATED;VALUE=DATE-TIME:20240222T000000Z
CATEGORIES:Infantils
LOCATION:Sala d'Actes de la Biblioteca - C. Bonaire, 3
ORGANIZER:Biblioteca - Regidoria de Cultura
DESCRIPTION:a càrrec de Carles Pérez i Simó Dominguez. Activitat recomanada per a infants a partir de 4 anys
URL:https://arenysdemar.cat/document.php?id=45305
END:VEVENT
END:VCALENDAR