BEGIN:VCALENDAR
VERSION:2.0
PRODID:-//Plone.org//NONSGML plone.app.event//EN
X-WR-TIMEZONE:Europe/Madrid
BEGIN:VEVENT
SUMMARY:Cine xic: Ratolins i guineus
DTSTART;TZID=Europe/Madrid;VALUE=DATE-TIME:20240127T180000
DTEND;TZID=Europe/Madrid;VALUE=DATE-TIME:20240127T190000
DTSTAMP;VALUE=DATE-TIME:20260420T164835Z
UID:c40831af65cbaf7b3870f54586e2300b
CREATED;VALUE=DATE-TIME:20240127T000000Z
CATEGORIES:Cinema,Infantils
LOCATION:Casal de Joventut Seràfica - Josep Baralt, s/n
ORGANIZER:Seràfics
COMMENT:Preu: 4
Durada: Fins a les 19h
URL:https://arenysdemar.cat/document.php?id=45363
END:VEVENT
END:VCALENDAR