BEGIN:VCALENDAR
VERSION:2.0
PRODID:-//Plone.org//NONSGML plone.app.event//EN
X-WR-TIMEZONE:Europe/Madrid
BEGIN:VEVENT
SUMMARY:Fira d'Artesania
DTSTART;TZID=Europe/Madrid;VALUE=DATE-TIME:20240505T080000
DTEND;TZID=Europe/Madrid;VALUE=DATE-TIME:20240505T090000
DTSTAMP;VALUE=DATE-TIME:20260419T180823Z
UID:b1d20da2277c0d9cfbdd3b0874bf7a96
CREATED;VALUE=DATE-TIME:20240505T000000Z
CATEGORIES:Mostra
LOCATION:Part baixa de la Riera
ORGANIZER:Crisàlide
COMMENT:Durada: Tot el dia
URL:https://arenysdemar.cat/document.php?id=45385
END:VEVENT
END:VCALENDAR