BEGIN:VCALENDAR
VERSION:2.0
PRODID:-//Plone.org//NONSGML plone.app.event//EN
X-WR-TIMEZONE:Europe/Madrid
BEGIN:VEVENT
SUMMARY:Fira de Brocanters
DTSTART;TZID=Europe/Madrid;VALUE=DATE-TIME:20240512T000000
DTEND;TZID=Europe/Madrid;VALUE=DATE-TIME:20240512T010000
DTSTAMP;VALUE=DATE-TIME:20260420T224405Z
UID:932e553a54edf35b74995e6dfc582f71
CREATED;VALUE=DATE-TIME:20240512T000000Z
CATEGORIES:Mostra
LOCATION:Riera, davant del C.C. Calisay
ORGANIZER:Crisàlide
COMMENT:Durada: Fins a les 14h del migdia
URL:https://arenysdemar.cat/document.php?id=45393
END:VEVENT
END:VCALENDAR