BEGIN:VCALENDAR
VERSION:2.0
PRODID:-//Plone.org//NONSGML plone.app.event//EN
X-WR-TIMEZONE:Europe/Madrid
BEGIN:VEVENT
SUMMARY:Primavera Musical: Ludwing van Beethoven (1770-1827) Film Copiyng
DTSTART;TZID=Europe/Madrid;VALUE=DATE-TIME:20240503T190000
DTEND;TZID=Europe/Madrid;VALUE=DATE-TIME:20240503T200000
DTSTAMP;VALUE=DATE-TIME:20260422T010754Z
UID:07e1ef7a24aface099b0620b87c11fc6
CREATED;VALUE=DATE-TIME:20240503T000000Z
CATEGORIES:Cinema
LOCATION:Sala d'actes de l'Ateneu
ORGANIZER:Secció de Cultura de l'Ateneu
COMMENT:Preu: Gratuït
Durada: Fins a les 20.45h
URL:https://arenysdemar.cat/document.php?id=45430
END:VEVENT
END:VCALENDAR