BEGIN:VCALENDAR
VERSION:2.0
PRODID:-//Plone.org//NONSGML plone.app.event//EN
X-WR-TIMEZONE:Europe/Madrid
BEGIN:VEVENT
SUMMARY:Visita guiada: Coneix la Biblioteca
DTSTART;TZID=Europe/Madrid;VALUE=DATE-TIME:20240323T110000
DTEND;TZID=Europe/Madrid;VALUE=DATE-TIME:20240323T120000
DTSTAMP;VALUE=DATE-TIME:20260424T052502Z
UID:e128f83898d28b28c4775492d2893e22
CREATED;VALUE=DATE-TIME:20240323T000000Z
LOCATION:Biblioteca - Bonaire, 2
ORGANIZER:Biblioteca - Regidoria de Cultura
URL:https://arenysdemar.cat/document.php?id=45537
END:VEVENT
END:VCALENDAR