BEGIN:VCALENDAR
VERSION:2.0
PRODID:-//Plone.org//NONSGML plone.app.event//EN
X-WR-TIMEZONE:Europe/Madrid
BEGIN:VEVENT
SUMMARY:Converses a la carta en francès: Un brin de causette
DTSTART;TZID=Europe/Madrid;VALUE=DATE-TIME:20240305T163000
DTEND;TZID=Europe/Madrid;VALUE=DATE-TIME:20240305T173000
DTSTAMP;VALUE=DATE-TIME:20260420T120153Z
UID:30e7c047c26106177c42d6c05f19f0cd
CREATED;VALUE=DATE-TIME:20240305T000000Z
CATEGORIES:Cursos
LOCATION:Sala d'Actes de la Biblioteca - C. Bonaire, 3
ORGANIZER:Biblioteca - Regidoria de Cultura
DESCRIPTION:a càrrec de Carme Porcel
URL:https://arenysdemar.cat/document.php?id=45541
END:VEVENT
END:VCALENDAR