BEGIN:VCALENDAR
VERSION:2.0
PRODID:-//Plone.org//NONSGML plone.app.event//EN
X-WR-TIMEZONE:Europe/Madrid
BEGIN:VEVENT
SUMMARY:32a Festa de l'arròs
DTSTART;TZID=Europe/Madrid;VALUE=DATE-TIME:20240501T110000
DTEND;TZID=Europe/Madrid;VALUE=DATE-TIME:20240501T120000
DTSTAMP;VALUE=DATE-TIME:20260426T022630Z
UID:126b430646c45200b3d87b71574187ff
CREATED;VALUE=DATE-TIME:20240501T000000Z
CATEGORIES:Festa
LOCATION:Plaça de la Sardana
ORGANIZER:Ajuntament d'Arenys de Mar
COMMENT:Preu: Podeu inscriure-us en aquest formulari
URL:https://arenysdemar.cat/document.php?id=45579
END:VEVENT
END:VCALENDAR