BEGIN:VCALENDAR
VERSION:2.0
PRODID:-//Plone.org//NONSGML plone.app.event//EN
X-WR-TIMEZONE:Europe/Madrid
BEGIN:VEVENT
SUMMARY:Marxa Popular Flos i Calcat
DTSTART;TZID=Europe/Madrid;VALUE=DATE-TIME:20240317T090000
DTEND;TZID=Europe/Madrid;VALUE=DATE-TIME:20240317T100000
DTSTAMP;VALUE=DATE-TIME:20260424T043909Z
UID:a19a448b57ba8e173f6a80f9305c7fe8
CREATED;VALUE=DATE-TIME:20240317T000000Z
CATEGORIES:Esports,Medi ambient
LOCATION:Sortida davant de l'Escola Bressol Els Colors
ORGANIZER:AEIG Flos i Calcat i Ajuntament d'Arenys de Mar
COMMENT:Preu: 6&euro;
DESCRIPTION:Ruta de 10 km pels rials d'Arenys
URL:https://arenysdemar.cat/document.php?id=45639
END:VEVENT
END:VCALENDAR