BEGIN:VCALENDAR
VERSION:2.0
PRODID:-//Plone.org//NONSGML plone.app.event//EN
X-WR-TIMEZONE:Europe/Madrid
BEGIN:VEVENT
SUMMARY:La Biblioteca surt al carrer per Sant Jordi
DTSTART;TZID=Europe/Madrid;VALUE=DATE-TIME:20240423T100000
DTEND;TZID=Europe/Madrid;VALUE=DATE-TIME:20240423T110000
DTSTAMP;VALUE=DATE-TIME:20260420T205627Z
UID:1c182ba59cad4a1093dc40ccf9c34b4c
CREATED;VALUE=DATE-TIME:20240423T000000Z
CATEGORIES:Festa,Literatura
LOCATION:Plaça de l'Església - Plaça de l'Església
ORGANIZER:Biblioteca - Regidoria de Cultura
URL:https://arenysdemar.cat/document.php?id=45671
END:VEVENT
END:VCALENDAR