BEGIN:VCALENDAR
VERSION:2.0
PRODID:-//Plone.org//NONSGML plone.app.event//EN
X-WR-TIMEZONE:Europe/Madrid
BEGIN:VEVENT
SUMMARY:La llegenda de Sant Jordi i el Drac
DTSTART;TZID=Europe/Madrid;VALUE=DATE-TIME:20240423T183000
DTEND;TZID=Europe/Madrid;VALUE=DATE-TIME:20240423T193000
DTSTAMP;VALUE=DATE-TIME:20260421T184356Z
UID:53888b4a80a31b7ddd262b67a92e09da
CREATED;VALUE=DATE-TIME:20240423T000000Z
CATEGORIES:Festa
LOCATION:Porxada del Mercat municipal
ORGANIZER:Geganters d'Arenys de Mar, Pubillatge Arenyenc i Regidoria de Festes
URL:https://arenysdemar.cat/document.php?id=45694
END:VEVENT
END:VCALENDAR