BEGIN:VCALENDAR
VERSION:2.0
PRODID:-//Plone.org//NONSGML plone.app.event//EN
X-WR-TIMEZONE:Europe/Madrid
BEGIN:VEVENT
SUMMARY:Antropologia: El negre i la moda
DTSTART;TZID=Europe/Madrid;VALUE=DATE-TIME:20240521T180000
DTEND;TZID=Europe/Madrid;VALUE=DATE-TIME:20240521T190000
DTSTAMP;VALUE=DATE-TIME:20260419T162740Z
UID:a94cf8a548abb8d6861889642ade71cf
CREATED;VALUE=DATE-TIME:20240521T000000Z
CATEGORIES:Conferència
LOCATION:Sala Josep Maria Arnau del C.C.Calisay - Riera del Pare Fita, 31
ORGANIZER:Aula d'Extensió Universitària d'Arenys de Mar
DESCRIPTION:a càrrec de Sílvia Ventosa Muñoz, doctora en Antropologia Urbana
URL:https://arenysdemar.cat/document.php?id=45708
END:VEVENT
END:VCALENDAR