BEGIN:VCALENDAR
VERSION:2.0
PRODID:-//Plone.org//NONSGML plone.app.event//EN
X-WR-TIMEZONE:Europe/Madrid
BEGIN:VEVENT
SUMMARY:Sociologia: Longevitat i societat. Quins efectes tindrà l'augment de l'esperança de vida?
DTSTART;TZID=Europe/Madrid;VALUE=DATE-TIME:20240611T180000
DTEND;TZID=Europe/Madrid;VALUE=DATE-TIME:20240611T190000
DTSTAMP;VALUE=DATE-TIME:20260420T183900Z
UID:875e9e719a8c24d8bceff737a261b6ca
CREATED;VALUE=DATE-TIME:20240611T000000Z
CATEGORIES:Conferència
LOCATION:Sala Josep Maria Arnau del C.C.Calisay - Riera del Pare Fita, 31
ORGANIZER:Aula d'Extensió Universitària d'Arenys de Mar
DESCRIPTION:a càrrec de Joan Subirats Humet de la Universitat Autònoma de Barcelona
URL:https://arenysdemar.cat/document.php?id=45711
END:VEVENT
END:VCALENDAR