BEGIN:VCALENDAR
VERSION:2.0
PRODID:-//Plone.org//NONSGML plone.app.event//EN
X-WR-TIMEZONE:Europe/Madrid
BEGIN:VEVENT
SUMMARY:Cervells Connectats: L'impacte de les pantalles
DTSTART;TZID=Europe/Madrid;VALUE=DATE-TIME:20240412T000000
DTEND;TZID=Europe/Madrid;VALUE=DATE-TIME:20240412T010000
DTSTAMP;VALUE=DATE-TIME:20260424T034656Z
UID:44f7fff9689abfaba8f533fed1f75025
CREATED;VALUE=DATE-TIME:20240412T000000Z
CATEGORIES:Conferència
LOCATION:Sala Josep Maria Arnau del C.C.Calisay - Riera del Pare Fita, 31
ORGANIZER:Afa's dels centres Educatius d'infantil, primària i secundària i Ajuntament d'Arenys de Mar
COMMENT:Durada: De 17:30 1 19:30
DESCRIPTION:Conferència a càrrec de Marta Ollé, pedagoga, neuroeducadora i professora de la UB
URL:https://arenysdemar.cat/document.php?id=45781
END:VEVENT
END:VCALENDAR