BEGIN:VCALENDAR
VERSION:2.0
PRODID:-//Plone.org//NONSGML plone.app.event//EN
X-WR-TIMEZONE:Europe/Madrid
BEGIN:VEVENT
SUMMARY:Sortides Culturals. Venerades i temudes: el poder femení en l'art i les creences
DTSTART;TZID=Europe/Madrid;VALUE=DATE-TIME:20240411T000000
DTEND;TZID=Europe/Madrid;VALUE=DATE-TIME:20240411T010000
DTSTAMP;VALUE=DATE-TIME:20260421T131251Z
UID:8df5244aa335e238514b25f679d3205a
CREATED;VALUE=DATE-TIME:20240411T000000Z
CATEGORIES:Exposició
LOCATION:CaixaForum
ORGANIZER:Aula d'Extensió Universitària d'Arenys de Mar
COMMENT:Preu: Consultar secretaria
DESCRIPTION:Visita guiada a l'exposició del CaixaForum
URL:https://arenysdemar.cat/document.php?id=45784
END:VEVENT
END:VCALENDAR