BEGIN:VCALENDAR
VERSION:2.0
PRODID:-//Plone.org//NONSGML plone.app.event//EN
X-WR-TIMEZONE:Europe/Madrid
BEGIN:VEVENT
SUMMARY:Sortida cultural: Vestides de negre
DTSTART;TZID=Europe/Madrid;VALUE=DATE-TIME:20240529T000000
DTEND;TZID=Europe/Madrid;VALUE=DATE-TIME:20240529T010000
DTSTAMP;VALUE=DATE-TIME:20260419T162446Z
UID:e85f5531b7f3e72fad76c7745995c838
CREATED;VALUE=DATE-TIME:20240529T000000Z
CATEGORIES:Mostra
LOCATION:Museu Marès de les Puntes - Església, 41
ORGANIZER:Aula d'Extensió Universitària d'Arenys de Mar
COMMENT:Preu: Consultar secretaria
DESCRIPTION:Visita guiada a l'exposició al Museu Marès de la Punta
URL:https://arenysdemar.cat/document.php?id=45787
END:VEVENT
END:VCALENDAR