BEGIN:VCALENDAR
VERSION:2.0
PRODID:-//Plone.org//NONSGML plone.app.event//EN
X-WR-TIMEZONE:Europe/Madrid
BEGIN:VEVENT
SUMMARY:Concert de Festa Major
DTSTART;TZID=Europe/Madrid;VALUE=DATE-TIME:20240705T200000
DTEND;TZID=Europe/Madrid;VALUE=DATE-TIME:20240705T210000
DTSTAMP;VALUE=DATE-TIME:20260423T182523Z
UID:ae5006a232ab965c7cc1b429998f1237
CREATED;VALUE=DATE-TIME:20240705T000000Z
CATEGORIES:Música
LOCATION:Plaça de l'Ajuntament - Riera Bisbe Pol, 8
ORGANIZER:Regidoria de Festes i l'Ass. Escola de Música d'Arenys de Mar
DESCRIPTION:a càrrec de la Banda de l'EMA
URL:https://arenysdemar.cat/document.php?id=45794
END:VEVENT
END:VCALENDAR