BEGIN:VCALENDAR
VERSION:2.0
PRODID:-//Plone.org//NONSGML plone.app.event//EN
X-WR-TIMEZONE:Europe/Madrid
BEGIN:VEVENT
SUMMARY:Res de la pregària de Completes
DTSTART;TZID=Europe/Madrid;VALUE=DATE-TIME:20240708T220000
DTEND;TZID=Europe/Madrid;VALUE=DATE-TIME:20240708T230000
DTSTAMP;VALUE=DATE-TIME:20260420T164226Z
UID:fc874740902bab9e2ecbf5d0e231bf28
CREATED;VALUE=DATE-TIME:20240708T000000Z
CATEGORIES:Festa
LOCATION:Església de Santa Maria - Plaça de l'Església
ORGANIZER:Parròquia de Santa Maria
URL:https://arenysdemar.cat/document.php?id=45802
END:VEVENT
END:VCALENDAR