BEGIN:VCALENDAR
VERSION:2.0
PRODID:-//Plone.org//NONSGML plone.app.event//EN
X-WR-TIMEZONE:Europe/Madrid
BEGIN:VEVENT
SUMMARY:Audició curta de sardanes
DTSTART;TZID=Europe/Madrid;VALUE=DATE-TIME:20240708T204500
DTEND;TZID=Europe/Madrid;VALUE=DATE-TIME:20240708T214500
DTSTAMP;VALUE=DATE-TIME:20260420T103127Z
UID:99d5c37667b941e2955124038dd2f02c
CREATED;VALUE=DATE-TIME:20240708T000000Z
CATEGORIES:Dansa
LOCATION:Riera zona nova coberta - Riera zona nova coberta
ORGANIZER:Regidoria de Festes
DESCRIPTION:amb la Cobla Montgrins
URL:https://arenysdemar.cat/document.php?id=45803
END:VEVENT
END:VCALENDAR