BEGIN:VCALENDAR
VERSION:2.0
PRODID:-//Plone.org//NONSGML plone.app.event//EN
X-WR-TIMEZONE:Europe/Madrid
BEGIN:VEVENT
SUMMARY:Excursió amb festa a Fuives
DTSTART;TZID=Europe/Madrid;VALUE=DATE-TIME:20240522T080000
DTEND;TZID=Europe/Madrid;VALUE=DATE-TIME:20240522T090000
DTSTAMP;VALUE=DATE-TIME:20260419T162259Z
UID:25abdfafdf66b2078b6c57b67a135489
CREATED;VALUE=DATE-TIME:20240522T000000Z
CATEGORIES:Festa
LOCATION:Sortida de la Riera davant del CC Calisay
ORGANIZER:Vocalia de Jubilats
COMMENT:Preu: 65&euro; els socis i 75&euro; els no socis
Durada: Tot el dia
URL:https://arenysdemar.cat/document.php?id=45850
END:VEVENT
END:VCALENDAR