BEGIN:VCALENDAR
VERSION:2.0
PRODID:-//Plone.org//NONSGML plone.app.event//EN
X-WR-TIMEZONE:Europe/Madrid
BEGIN:VEVENT
SUMMARY:Trobada amb l'autora: "Muriel Villanueva"
DTSTART;TZID=Europe/Madrid;VALUE=DATE-TIME:20240514T091500
DTEND;TZID=Europe/Madrid;VALUE=DATE-TIME:20240514T101500
DTSTAMP;VALUE=DATE-TIME:20260419T145424Z
UID:7a6f73e632c257d89161f3b9efbc589b
CREATED;VALUE=DATE-TIME:20240514T000000Z
CATEGORIES:Literatura,Infantils
LOCATION:Sala d'Actes de la Biblioteca - C. Bonaire, 3
ORGANIZER:Biblioteca - Regidoria de Cultura
DESCRIPTION:i els alumnes del cicle superior de les escoles Joan Maragall, Sinera i Presentació.
URL:https://arenysdemar.cat/document.php?id=45859
END:VEVENT
END:VCALENDAR