BEGIN:VCALENDAR
VERSION:2.0
PRODID:-//Plone.org//NONSGML plone.app.event//EN
X-WR-TIMEZONE:Europe/Madrid
BEGIN:VEVENT
SUMMARY:Festa de la Bandereta (425è aniversari de la vila d'Arenys de Mar)
DTSTART;TZID=Europe/Madrid;VALUE=DATE-TIME:20240505T121500
DTEND;TZID=Europe/Madrid;VALUE=DATE-TIME:20240505T131500
DTSTAMP;VALUE=DATE-TIME:20260424T010832Z
UID:a862676f36b7f1a53b5fc10707deba60
CREATED;VALUE=DATE-TIME:20240505T000000Z
CATEGORIES:Festa
LOCATION:Església de Santa Maria - Plaça de l'Església
ORGANIZER:Parròquia de Santa Maria
DESCRIPTION:Missa, benedicció, himne i hissada de la bandereta del campanar
URL:https://arenysdemar.cat/document.php?id=45900
END:VEVENT
END:VCALENDAR