BEGIN:VCALENDAR
VERSION:2.0
PRODID:-//Plone.org//NONSGML plone.app.event//EN
X-WR-TIMEZONE:Europe/Madrid
BEGIN:VEVENT
SUMMARY:El Piano al carrer: Maria Canals Porta Cua
DTSTART;TZID=Europe/Madrid;VALUE=DATE-TIME:20240601T190000
DTEND;TZID=Europe/Madrid;VALUE=DATE-TIME:20240601T200000
DTSTAMP;VALUE=DATE-TIME:20260419T162645Z
UID:1fb627d3b2394698db8e95f6214d7eb1
CREATED;VALUE=DATE-TIME:20240601T000000Z
CATEGORIES:Música
LOCATION:Pati del C.C.Calisay - Riera del Pare Fita, 31
ORGANIZER:Regidoria de Cultura, Associció Escola de Música i Maria Canals Barcelona
DESCRIPTION:Concert d'Irene Tineo Peiró
URL:https://arenysdemar.cat/document.php?id=45924
END:VEVENT
END:VCALENDAR