BEGIN:VCALENDAR
VERSION:2.0
PRODID:-//Plone.org//NONSGML plone.app.event//EN
X-WR-TIMEZONE:Europe/Madrid
BEGIN:VEVENT
SUMMARY:Curs Joan Vives - Les dones compositores
DTSTART;TZID=Europe/Madrid;VALUE=DATE-TIME:20240527T193000
DTEND;TZID=Europe/Madrid;VALUE=DATE-TIME:20240527T203000
DTSTAMP;VALUE=DATE-TIME:20260419T150226Z
UID:34d3479d0f02f07c8ba0de6447bb3d63
CREATED;VALUE=DATE-TIME:20240527T000000Z
CATEGORIES:Música,Conferència
LOCATION:Sala Noble del C.C.Calisay - Riera Pare Fita, 31
ORGANIZER:Associació Escola Municipal de Música Carles G. Vidiella d'Arenys de Mar
COMMENT:Preu: més informació a www.emarenys.org
Durada: 1h 30min
DESCRIPTION:Fanny Mendelssohn
URL:https://arenysdemar.cat/document.php?id=45934
END:VEVENT
END:VCALENDAR