BEGIN:VCALENDAR
VERSION:2.0
PRODID:-//Plone.org//NONSGML plone.app.event//EN
X-WR-TIMEZONE:Europe/Madrid
BEGIN:VEVENT
SUMMARY:Curs Joan Vives - Les dones compositores
DTSTART;TZID=Europe/Madrid;VALUE=DATE-TIME:20240603T193000
DTEND;TZID=Europe/Madrid;VALUE=DATE-TIME:20240603T203000
DTSTAMP;VALUE=DATE-TIME:20260420T151711Z
UID:5289051766394d7bcf0794dc1a879709
CREATED;VALUE=DATE-TIME:20240603T000000Z
CATEGORIES:Música,Conferència
LOCATION:Sala Noble del C.C.Calisay - Riera Pare Fita, 31
ORGANIZER:Associació Escola Municipal de Música Carles G. Vidiella d'Arenys de Mar
COMMENT:Preu: més informació a www.emarenys.org
Durada: 1h 30min
DESCRIPTION:Clara Schumann
URL:https://arenysdemar.cat/document.php?id=45935
END:VEVENT
END:VCALENDAR