BEGIN:VCALENDAR
VERSION:2.0
PRODID:-//Plone.org//NONSGML plone.app.event//EN
X-WR-TIMEZONE:Europe/Madrid
BEGIN:VEVENT
SUMMARY:Festa al carrer Sant Pere i Plaça Bellavista
DTSTART;TZID=Europe/Madrid;VALUE=DATE-TIME:20240628T000000
DTEND;TZID=Europe/Madrid;VALUE=DATE-TIME:20240628T010000
DTSTAMP;VALUE=DATE-TIME:20260423T153209Z
UID:809b28deb2dec35358c9d3141e612dec
CREATED;VALUE=DATE-TIME:20240628T000000Z
CATEGORIES:Festa
LOCATION:Carrer Sant Pere i Plaça Bellavista
ORGANIZER:Comissió de festes del carrer Sant Pere i Plaça Vellavista
COMMENT:Durada: També el dia 29 de juny
URL:https://arenysdemar.cat/document.php?id=45974
END:VEVENT
END:VCALENDAR