BEGIN:VCALENDAR
VERSION:2.0
PRODID:-//Plone.org//NONSGML plone.app.event//EN
X-WR-TIMEZONE:Europe/Madrid
BEGIN:VEVENT
SUMMARY:Festa al carrer de la Perera
DTSTART;TZID=Europe/Madrid;VALUE=DATE-TIME:20240726T000000
DTEND;TZID=Europe/Madrid;VALUE=DATE-TIME:20240726T010000
DTSTAMP;VALUE=DATE-TIME:20260423T183915Z
UID:aabe89516ef01e36b9ee7df47a571039
CREATED;VALUE=DATE-TIME:20240726T000000Z
CATEGORIES:Festa
LOCATION:Carrer de la Perera
ORGANIZER:Comissió de festes del carrer de la Perera
COMMENT:Durada: Fins al dia 28 de juliol
URL:https://arenysdemar.cat/document.php?id=45979
END:VEVENT
END:VCALENDAR