BEGIN:VCALENDAR
VERSION:2.0
PRODID:-//Plone.org//NONSGML plone.app.event//EN
X-WR-TIMEZONE:Europe/Madrid
BEGIN:VEVENT
SUMMARY:Festa al carrer Escolàpies
DTSTART;TZID=Europe/Madrid;VALUE=DATE-TIME:20240803T000000
DTEND;TZID=Europe/Madrid;VALUE=DATE-TIME:20240803T010000
DTSTAMP;VALUE=DATE-TIME:20260424T044939Z
UID:37f6d237117530f5d81a684f1f21e80f
CREATED;VALUE=DATE-TIME:20240803T000000Z
CATEGORIES:Festa
LOCATION:Carrer Escolàpies
ORGANIZER:Comissió de festes del carrer Esc
COMMENT:Durada: També el dia 4 d'agost
URL:https://arenysdemar.cat/document.php?id=45983
END:VEVENT
END:VCALENDAR